BEGIN:VCALENDAR
VERSION:2.0
PRODID:-//Beatles Artifact - All you need is live - ECPv6.15.20//NONSGML v1.0//EN
CALSCALE:GREGORIAN
METHOD:PUBLISH
X-WR-CALNAME:Beatles Artifact - All you need is live
X-ORIGINAL-URL:https://www.allyouneedislive.fr
X-WR-CALDESC:Évènements pour Beatles Artifact - All you need is live
REFRESH-INTERVAL;VALUE=DURATION:PT1H
X-Robots-Tag:noindex
X-PUBLISHED-TTL:PT1H
BEGIN:VTIMEZONE
TZID:Europe/Paris
BEGIN:DAYLIGHT
TZOFFSETFROM:+0100
TZOFFSETTO:+0200
TZNAME:CEST
DTSTART:20230326T010000
END:DAYLIGHT
BEGIN:STANDARD
TZOFFSETFROM:+0200
TZOFFSETTO:+0100
TZNAME:CET
DTSTART:20231029T010000
END:STANDARD
BEGIN:DAYLIGHT
TZOFFSETFROM:+0100
TZOFFSETTO:+0200
TZNAME:CEST
DTSTART:20240331T010000
END:DAYLIGHT
BEGIN:STANDARD
TZOFFSETFROM:+0200
TZOFFSETTO:+0100
TZNAME:CET
DTSTART:20241027T010000
END:STANDARD
BEGIN:DAYLIGHT
TZOFFSETFROM:+0100
TZOFFSETTO:+0200
TZNAME:CEST
DTSTART:20250330T010000
END:DAYLIGHT
BEGIN:STANDARD
TZOFFSETFROM:+0200
TZOFFSETTO:+0100
TZNAME:CET
DTSTART:20251026T010000
END:STANDARD
BEGIN:DAYLIGHT
TZOFFSETFROM:+0100
TZOFFSETTO:+0200
TZNAME:CEST
DTSTART:20260329T010000
END:DAYLIGHT
BEGIN:STANDARD
TZOFFSETFROM:+0200
TZOFFSETTO:+0100
TZNAME:CET
DTSTART:20261025T010000
END:STANDARD
BEGIN:DAYLIGHT
TZOFFSETFROM:+0100
TZOFFSETTO:+0200
TZNAME:CEST
DTSTART:20270328T010000
END:DAYLIGHT
BEGIN:STANDARD
TZOFFSETFROM:+0200
TZOFFSETTO:+0100
TZNAME:CET
DTSTART:20271031T010000
END:STANDARD
END:VTIMEZONE
BEGIN:VEVENT
DTSTART;TZID=Europe/Paris:20260214T203000
DTEND;TZID=Europe/Paris:20260214T230000
DTSTAMP:20260421T133849
CREATED:20260210T164441Z
LAST-MODIFIED:20260210T171836Z
UID:1073-1771101000-1771110000@www.allyouneedislive.fr
SUMMARY:The Beatles' Artifact à La Cambuse Du Corsaire
DESCRIPTION:𝗦𝗔𝗠𝗘𝗗𝗜 𝟭𝟰 𝗙𝗘́𝗩𝗥𝗜𝗘𝗥 𝗔̀ 𝗟𝗔 𝗖𝗔𝗠𝗕𝗨𝗦𝗘 \n\n\nCe samedi 14 Février\, on se retrouve pour la Saint-Valentin avecThe Beatles’ Artifact\n\n\nThe Beatles’ Artifact c’est un tribute 100% des Beatles\, parfait pour la Saint-Valentin ! \n\n\n Entrée libre & sans réservations\n Snack sur place ou à emporter\n La Cambuse du Corsaire – Saint Méloir des Ondes\n\n\n Début du concert : 20h30\n\n\nOn vous attend nombreux pour une soirée de folie ! \n\n\n#concert #barabieres #lacambuseducorsaire
URL:https://www.allyouneedislive.fr/event/the-beatles-artifact-a-la-cambuse-du-corsaire/
LOCATION:https://share.google/wETivWfZrQtQjfX9F\, 32 rue d'Émeraude\, St Méloir des Ondes\, Bretagne\, 35350\, France
ATTACH;FMTTYPE=image/jpeg:https://www.allyouneedislive.fr/wp-content/uploads/2026/02/615537625_1538083648320075_2397961732198723299_n.jpg
END:VEVENT
BEGIN:VEVENT
DTSTART;TZID=Europe/Paris:20260109T200000
DTEND;TZID=Europe/Paris:20260109T230000
DTSTAMP:20260421T133849
CREATED:20260210T163626Z
LAST-MODIFIED:20260210T163626Z
UID:1069-1767988800-1767999600@www.allyouneedislive.fr
SUMMARY:The Beatles' Artifact au Fury Défendu
DESCRIPTION:
URL:https://www.allyouneedislive.fr/event/the-beatles-artifact-au-fury-defendu/
LOCATION:Fury Défendu\, 2 quai Pierre Corneille\, Rouen\, Normandie\, 76000\, France
ATTACH;FMTTYPE=image/jpeg:https://www.allyouneedislive.fr/wp-content/uploads/2026/02/597859886_122156974640880562_2874840262844642427_n.jpg
END:VEVENT
BEGIN:VEVENT
DTSTART;TZID=Europe/Paris:20250808T183000
DTEND;TZID=Europe/Paris:20250808T213000
DTSTAMP:20260421T133849
CREATED:20250719T185740Z
LAST-MODIFIED:20250719T190344Z
UID:1063-1754677800-1754688600@www.allyouneedislive.fr
SUMMARY:Les Vendredis au Taillis
DESCRIPTION:
URL:https://www.allyouneedislive.fr/event/les-vendredis-au-taillis/
LOCATION:Normandie
ATTACH;FMTTYPE=image/jpeg:https://www.allyouneedislive.fr/wp-content/uploads/2024/12/DSCF5213-RAF_DxO_DeepPRIMEXD.jpg
END:VEVENT
BEGIN:VEVENT
DTSTART;TZID=Europe/Paris:20250806T200000
DTEND;TZID=Europe/Paris:20250806T200000
DTSTAMP:20260421T133849
CREATED:20250719T181642Z
LAST-MODIFIED:20250910T084813Z
UID:1058-1754510400-1754510400@www.allyouneedislive.fr
SUMMARY:The Beatles' Artifact à Blainville-sur-Mer
DESCRIPTION:Les renseignements vont arriver
URL:https://www.allyouneedislive.fr/event/the-beatles-artifact-a-blainville-sur-mer/
LOCATION:Normandie
ATTACH;FMTTYPE=image/jpeg:https://www.allyouneedislive.fr/wp-content/uploads/2025/05/DSCF4329-RAF_DxO_DeepPRIMEXD.jpg
END:VEVENT
BEGIN:VEVENT
DTSTART;TZID=Europe/Paris:20250803T200000
DTEND;TZID=Europe/Paris:20250803T233000
DTSTAMP:20260421T133849
CREATED:20250719T181246Z
LAST-MODIFIED:20250910T084856Z
UID:1053-1754251200-1754263800@www.allyouneedislive.fr
SUMMARY:The Beatles' Artifact à Millières "La Saint-Étienne se déchaîne"
DESCRIPTION:
URL:https://www.allyouneedislive.fr/event/the-beatles-artifact-a-millieres-la-saint-etienne-se-dechaine/
LOCATION:Normandie
ATTACH;FMTTYPE=image/jpeg:https://www.allyouneedislive.fr/wp-content/uploads/2025/07/518592739_1407426773858739_2525046422621855516_n.jpg
END:VEVENT
BEGIN:VEVENT
DTSTART;TZID=Europe/Paris:20250531T190000
DTEND;TZID=Europe/Paris:20250531T230000
DTSTAMP:20260421T133849
CREATED:20241229T183434Z
LAST-MODIFIED:20250101T194707Z
UID:1017-1748718000-1748732400@www.allyouneedislive.fr
SUMMARY:The Beatles' Artifact featuring Baptiste Cottereau Au bout là-bas Dieppe
DESCRIPTION:Pensez à réserver une table !
URL:https://www.allyouneedislive.fr/event/the-beatles-artifact-featuring-baptiste-cottereau-au-bout-la-bas-dieppe/
LOCATION:Au Bout Là-Bas\, 109 Quai Henri IV\, Dieppe\, Normandie\, 76200\, France
ATTACH;FMTTYPE=image/jpeg:https://www.allyouneedislive.fr/wp-content/uploads/2024/12/17062017-DSCF3660.jpg
END:VEVENT
BEGIN:VEVENT
DTSTART;TZID=Europe/Paris:20250517T200000
DTEND;TZID=Europe/Paris:20250517T200000
DTSTAMP:20260421T133849
CREATED:20250514T163045Z
LAST-MODIFIED:20250514T163205Z
UID:1039-1747512000-1747512000@www.allyouneedislive.fr
SUMMARY:The Beatles' Artifact au Magic Mirrors Le Havre
DESCRIPTION: Prêts pour un voyage dans le temps ?\n Des balades les plus douces aux hymnes les plus puissants\, The Beatles Artifact reprend les tubes du groupe n°1 dans le monde. Un concert plein d’émotions en perspective.\n Vivez l’expérience The Beatles en live avec l’un des meilleurs Cover Band des « Fab Four ».\n « All you need is love »\, « Help »\, « Sgt. Pepper’s Lonely Hearts Club Band » et toutes vos chansons préférées du groupe de Liverpool qui prône l’amour et la paix dans le monde.
URL:https://www.allyouneedislive.fr/event/the-beatles-artifact-au-magic-mirrors-le-havre/
LOCATION:Magic Mirrors Le Havre\, 5 quai Frissard\, le Havre\, 76600\, France
ATTACH;FMTTYPE=image/jpeg:https://www.allyouneedislive.fr/wp-content/uploads/2025/05/DSCF4329-RAF_DxO_DeepPRIMEXD.jpg
ORGANIZER;CN="Magic Mirrors Le Havre":MAILTO:magicmirrors@lehavre.fr
END:VEVENT
BEGIN:VEVENT
DTSTART;TZID=Europe/Paris:20250215T190000
DTEND;TZID=Europe/Paris:20250215T230000
DTSTAMP:20260421T133849
CREATED:20241229T183003Z
LAST-MODIFIED:20260419T083230Z
UID:1015-1739646000-1739660400@www.allyouneedislive.fr
SUMMARY:The Beatles' Artifact Au bout là-bas Dieppe
DESCRIPTION:Pensez à réserver une table !
URL:https://www.allyouneedislive.fr/event/the-beatles-artifact-au-bout-la-bas-dieppe/
LOCATION:Au Bout Là-Bas\, 109 Quai Henri IV\, Dieppe\, Normandie\, 76200\, France
ATTACH;FMTTYPE=image/jpeg:https://www.allyouneedislive.fr/wp-content/uploads/2024/09/The-Beatles_Artifact_Allyouneedislive.jpg
END:VEVENT
BEGIN:VEVENT
DTSTART;TZID=Europe/Paris:20250214T210000
DTEND;TZID=Europe/Paris:20250214T230000
DTSTAMP:20260421T133849
CREATED:20241229T182739Z
LAST-MODIFIED:20250101T194157Z
UID:1012-1739566800-1739574000@www.allyouneedislive.fr
SUMMARY:The Beatles' Artifact au Ninkasi
DESCRIPTION:Pensez à réserver une table !
URL:https://www.allyouneedislive.fr/event/the-beatles-artifact-au-ninkasi/
LOCATION:Ninkasi Rouen\, Parc We Hub\, 75 Rue de la Mare Sansoure\, Petit-Couronne\, 76650\, France
ATTACH;FMTTYPE=image/jpeg:https://www.allyouneedislive.fr/wp-content/uploads/2024/09/beatles_tribute_thebeatlesartifact.jpg
END:VEVENT
BEGIN:VEVENT
DTSTART;TZID=Europe/Paris:20250207T190000
DTEND;TZID=Europe/Paris:20250207T230000
DTSTAMP:20260421T133849
CREATED:20241229T182220Z
LAST-MODIFIED:20250101T193156Z
UID:1007-1738954800-1738969200@www.allyouneedislive.fr
SUMMARY:The Beatles' Artifact au H9 Rouen
DESCRIPTION:Pensez à réserver une table !
URL:https://www.allyouneedislive.fr/event/the-beatles-artifact-au-h9-rouen/
LOCATION:Brasserie H9\, Rouen\, France
ATTACH;FMTTYPE=image/jpeg:https://www.allyouneedislive.fr/wp-content/uploads/2024/12/DSCF5213-RAF_DxO_DeepPRIMEXD.jpg
END:VEVENT
BEGIN:VEVENT
DTSTART;TZID=Europe/Paris:20241214T200000
DTEND;TZID=Europe/Paris:20241214T203000
DTSTAMP:20260421T133849
CREATED:20240912T143732Z
LAST-MODIFIED:20240912T144411Z
UID:996-1734206400-1734208200@www.allyouneedislive.fr
SUMMARY:Condé côté scène
DESCRIPTION:
URL:https://www.allyouneedislive.fr/event/conde-cote-scene/
LOCATION:Condé côté scène\, Saint-Germain-du-Crioult\, 14110\, France
ATTACH;FMTTYPE=image/jpeg:https://www.allyouneedislive.fr/wp-content/uploads/2024/09/The-Beatles_Artifact_Allyouneedislive.jpg
END:VEVENT
BEGIN:VEVENT
DTSTART;TZID=Europe/Paris:20241018T190000
DTEND;TZID=Europe/Paris:20241018T190000
DTSTAMP:20260421T133849
CREATED:20240912T143026Z
LAST-MODIFIED:20240912T143040Z
UID:994-1729278000-1729278000@www.allyouneedislive.fr
SUMMARY:Comptoir de l'Arboretum
DESCRIPTION:
URL:https://www.allyouneedislive.fr/event/comptoir-de-larboretum-2/
LOCATION:Comptoir de l’Arboretum\, Harcourt\, 27800\, France
ATTACH;FMTTYPE=image/jpeg:https://www.allyouneedislive.fr/wp-content/uploads/2024/07/le-Comptoir-de-l-arboretum_Harcourt.jpg
END:VEVENT
BEGIN:VEVENT
DTSTART;TZID=Europe/Paris:20240809T193000
DTEND;TZID=Europe/Paris:20240809T233000
DTSTAMP:20260421T133849
CREATED:20240731T085238Z
LAST-MODIFIED:20240731T085303Z
UID:868-1723231800-1723246200@www.allyouneedislive.fr
SUMMARY:Les soirées concerts Bayeux
DESCRIPTION:
URL:https://www.allyouneedislive.fr/event/les-soirees-concerts-bayeux/
LOCATION:Bayeux Aventure\, Cussy\, 14400\, France
ATTACH;FMTTYPE=image/jpeg:https://www.allyouneedislive.fr/wp-content/uploads/2024/07/lessoireesconcerts_bayeux.jpg
END:VEVENT
BEGIN:VEVENT
DTSTART;TZID=Europe/Paris:20240802T190000
DTEND;TZID=Europe/Paris:20240802T233000
DTSTAMP:20260421T133849
CREATED:20240725T165746Z
LAST-MODIFIED:20240731T100633Z
UID:196-1722625200-1722641400@www.allyouneedislive.fr
SUMMARY:Diner Concert Brasserie H9
DESCRIPTION:
URL:https://www.allyouneedislive.fr/event/soubock-evenement/
LOCATION:Brasserie H9\, Rouen\, France
ATTACH;FMTTYPE=image/jpeg:https://www.allyouneedislive.fr/wp-content/uploads/2024/07/brasserie_h9_Rouen.jpg
END:VEVENT
BEGIN:VEVENT
DTSTART;TZID=Europe/Paris:20240801T200000
DTEND;TZID=Europe/Paris:20240801T200000
DTSTAMP:20260421T133849
CREATED:20240725T165942Z
LAST-MODIFIED:20240731T100445Z
UID:202-1722542400-1722542400@www.allyouneedislive.fr
SUMMARY:Concert Au bout là-bas
DESCRIPTION:
URL:https://www.allyouneedislive.fr/event/au-bout-la-bas/
LOCATION:Au Bout Là-Bas\, 109 Quai Henri IV\, Dieppe\, Normandie\, 76200\, France
ATTACH;FMTTYPE=image/jpeg:https://www.allyouneedislive.fr/wp-content/uploads/2024/07/au-bout-la-bas_Dieppe.jpg
END:VEVENT
BEGIN:VEVENT
DTSTART;TZID=Europe/Paris:20240727T213000
DTEND;TZID=Europe/Paris:20240727T233000
DTSTAMP:20260421T133849
CREATED:20240729T095817Z
LAST-MODIFIED:20240729T095817Z
UID:321-1722115800-1722123000@www.allyouneedislive.fr
SUMMARY:Soirées de la Sainte-Anne à La Valette du Var
DESCRIPTION:
URL:https://www.allyouneedislive.fr/event/soirees-de-la-sainte-anne-a-la-valette-du-var/
LOCATION:La Valette-du-Var\, La Valette-du-Var\, 83160\, France
ATTACH;FMTTYPE=image/jpeg:https://www.allyouneedislive.fr/wp-content/uploads/2024/07/soirees_sainte-anne_lavaletteduvar.jpg
END:VEVENT
BEGIN:VEVENT
DTSTART;TZID=Europe/Paris:20240622T200000
DTEND;TZID=Europe/Paris:20240622T233000
DTSTAMP:20260421T133849
CREATED:20240725T164839Z
LAST-MODIFIED:20240726T084008Z
UID:187-1719086400-1719099000@www.allyouneedislive.fr
SUMMARY:Beatles D-Days
DESCRIPTION:
URL:https://www.allyouneedislive.fr/event/beatles-d-days/
LOCATION:Festival Beatles D-Days\, Hermanville-sur-Mer\, France
ATTACH;FMTTYPE=image/jpeg:https://www.allyouneedislive.fr/wp-content/uploads/2024/07/Beatles-Days_Hermanville-sur-mer.jpg
END:VEVENT
BEGIN:VEVENT
DTSTART;TZID=Europe/Paris:20240427T200000
DTEND;TZID=Europe/Paris:20240427T233000
DTSTAMP:20260421T133849
CREATED:20240725T165646Z
LAST-MODIFIED:20240726T084040Z
UID:193-1714248000-1714260600@www.allyouneedislive.fr
SUMMARY:Tribute Fest
DESCRIPTION:
URL:https://www.allyouneedislive.fr/event/tribute-fest/
LOCATION:Saint-Lô\, Saint-Lô
ATTACH;FMTTYPE=image/jpeg:https://www.allyouneedislive.fr/wp-content/uploads/2024/07/TributeFest_27avril24_StLo.jpg
END:VEVENT
BEGIN:VEVENT
DTSTART;TZID=Europe/Paris:20240426T200000
DTEND;TZID=Europe/Paris:20240426T233000
DTSTAMP:20260421T133849
CREATED:20240725T172729Z
LAST-MODIFIED:20240726T084632Z
UID:225-1714161600-1714174200@www.allyouneedislive.fr
SUMMARY:Soubock Evenement
DESCRIPTION:
URL:https://www.allyouneedislive.fr/event/soubock-evenement-2/
LOCATION:Soubock Evenement\, Cauville
ATTACH;FMTTYPE=image/jpeg:https://www.allyouneedislive.fr/wp-content/uploads/2024/07/soubock-evenement_Cauville.jpg
END:VEVENT
BEGIN:VEVENT
DTSTART;TZID=Europe/Paris:20240202T200000
DTEND;TZID=Europe/Paris:20240202T233000
DTSTAMP:20260421T133849
CREATED:20240725T165545Z
LAST-MODIFIED:20240726T084655Z
UID:190-1706904000-1706916600@www.allyouneedislive.fr
SUMMARY:Comptoir de l'Arboretum
DESCRIPTION:
URL:https://www.allyouneedislive.fr/event/comptoir-de-larboretum/
LOCATION:Comptoir de l’Arboretum\, Harcourt\, 27800\, France
ATTACH;FMTTYPE=image/jpeg:https://www.allyouneedislive.fr/wp-content/uploads/2024/07/le-Comptoir-de-l-arboretum_Harcourt.jpg
END:VEVENT
END:VCALENDAR